BEGIN:VCALENDAR
VERSION:2.0
PRODID:-//MV AKTUELL - ECPv6.15.20//NONSGML v1.0//EN
CALSCALE:GREGORIAN
METHOD:PUBLISH
X-ORIGINAL-URL:https://www.mv-aktuell.de
X-WR-CALDESC:Veranstaltungen für MV AKTUELL
REFRESH-INTERVAL;VALUE=DURATION:PT1H
X-Robots-Tag:noindex
X-PUBLISHED-TTL:PT1H
BEGIN:VTIMEZONE
TZID:Europe/Berlin
BEGIN:DAYLIGHT
TZOFFSETFROM:+0100
TZOFFSETTO:+0200
TZNAME:CEST
DTSTART:20230326T010000
END:DAYLIGHT
BEGIN:STANDARD
TZOFFSETFROM:+0200
TZOFFSETTO:+0100
TZNAME:CET
DTSTART:20231029T010000
END:STANDARD
BEGIN:DAYLIGHT
TZOFFSETFROM:+0100
TZOFFSETTO:+0200
TZNAME:CEST
DTSTART:20240331T010000
END:DAYLIGHT
BEGIN:STANDARD
TZOFFSETFROM:+0200
TZOFFSETTO:+0100
TZNAME:CET
DTSTART:20241027T010000
END:STANDARD
BEGIN:DAYLIGHT
TZOFFSETFROM:+0100
TZOFFSETTO:+0200
TZNAME:CEST
DTSTART:20250330T010000
END:DAYLIGHT
BEGIN:STANDARD
TZOFFSETFROM:+0200
TZOFFSETTO:+0100
TZNAME:CET
DTSTART:20251026T010000
END:STANDARD
END:VTIMEZONE
BEGIN:VEVENT
DTSTART;TZID=Europe/Berlin:20241103T160000
DTEND;TZID=Europe/Berlin:20241103T173000
DTSTAMP:20260423T183657
CREATED:20241102T101103Z
LAST-MODIFIED:20241102T101103Z
UID:27415-1730649600-1730655000@www.mv-aktuell.de
SUMMARY:Konzert "Gleich einer Symphonie in Grün" in der Alten Synagoge
DESCRIPTION:Am Sonntag\, den 3. November um 16 Uhr findet in der Alten Synagoge in Krakow am See das Konzert „Gleich einer Symphonie in Grün“ statt. Die Veranstaltung bildet den dritten und letzten Teil unseres Projektes „Einblicke in die jüdische Kultur“ mit neuvertonten Gedichten von Selma Merbaum durch das Ensemble Z’lil schel Bet Haskala zusammen mit der deutsch-israelischen Sängerin Aviv Weinberg. \nDer Eintritt ist frei. \nDas Konzert wird gefördert durch die Partnerschaft für Demokratie / Demokratie leben!.
URL:https://www.mv-aktuell.de/event/konzert-gleich-einer-symphonie-in-gruen-in-der-alten-synagoge/
LOCATION:Alte Synagoge Krakow am See\, Schulplatz 1\, Krakow am See\, MV\, 18292\, Deutschland
ATTACH;FMTTYPE=image/jpeg:https://www.mv-aktuell.de/wp-content/uploads/sites/2/2024/11/Plakat_SELMA_A2-scaled-e1730530228143.jpg
ORGANIZER;CN="Kulturverein 'Alte Synagoge' Krakow am See e.V.":MAILTO:info@kulturverein-altesynagoge.de
END:VEVENT
BEGIN:VEVENT
DTSTART;TZID=Europe/Berlin:20241113T193000
DTEND;TZID=Europe/Berlin:20241113T210000
DTSTAMP:20260423T183657
CREATED:20241111T123525Z
LAST-MODIFIED:20241111T123525Z
UID:27425-1731526200-1731531600@www.mv-aktuell.de
SUMMARY:Kinoabend in der Alten Schule in Krakow am See
DESCRIPTION:Am 13. November um 19.30 Uhr zeigen wir diesmal im Stadtvertretersaal der Alten Schule – bedingt durch die Sanierungsarbeiten in der Alten Synagoge – den isländischen Spielfilm „Sture Böcke“. Die Komödie handelt von zwei Brüdern\, beide Schafhirten\, die aber seit 40 Jahren zerstritten sind. Durch eine aufkommende Tierseuche sind sie gezwungen\, gemeinsam zu handeln … \n„Mit wundervoll schrägem Humor“ Variety\n„Ein eindrücklicher Film von rustikaler Schönheit“ Cinestatic.de \nEintritt: 5\,– € / erm. 4\,– €
URL:https://www.mv-aktuell.de/event/kinoabend-in-der-alten-schule-in-krakow-am-see/
LOCATION:Stadtvertretersaal Alte Schule\, Schulplatz 2\, krakow am See\, MV\, 18292\, Germany
ATTACH;FMTTYPE=image/jpeg:https://www.mv-aktuell.de/wp-content/uploads/sites/2/2024/11/913k5u4I5yL._RI_-e1731318921276.jpg
ORGANIZER;CN="Kulturverein 'Alte Synagoge' Krakow am See e.V.":MAILTO:info@kulturverein-altesynagoge.de
END:VEVENT
END:VCALENDAR