BEGIN:VCALENDAR
VERSION:2.0
PRODID:-//MV AKTUELL - ECPv6.15.20//NONSGML v1.0//EN
CALSCALE:GREGORIAN
METHOD:PUBLISH
X-WR-CALNAME:MV AKTUELL
X-ORIGINAL-URL:https://www.mv-aktuell.de
X-WR-CALDESC:Veranstaltungen für MV AKTUELL
REFRESH-INTERVAL;VALUE=DURATION:PT1H
X-Robots-Tag:noindex
X-PUBLISHED-TTL:PT1H
BEGIN:VTIMEZONE
TZID:Europe/Berlin
BEGIN:DAYLIGHT
TZOFFSETFROM:+0100
TZOFFSETTO:+0200
TZNAME:CEST
DTSTART:20230326T010000
END:DAYLIGHT
BEGIN:STANDARD
TZOFFSETFROM:+0200
TZOFFSETTO:+0100
TZNAME:CET
DTSTART:20231029T010000
END:STANDARD
BEGIN:DAYLIGHT
TZOFFSETFROM:+0100
TZOFFSETTO:+0200
TZNAME:CEST
DTSTART:20240331T010000
END:DAYLIGHT
BEGIN:STANDARD
TZOFFSETFROM:+0200
TZOFFSETTO:+0100
TZNAME:CET
DTSTART:20241027T010000
END:STANDARD
BEGIN:DAYLIGHT
TZOFFSETFROM:+0100
TZOFFSETTO:+0200
TZNAME:CEST
DTSTART:20250330T010000
END:DAYLIGHT
BEGIN:STANDARD
TZOFFSETFROM:+0200
TZOFFSETTO:+0100
TZNAME:CET
DTSTART:20251026T010000
END:STANDARD
END:VTIMEZONE
BEGIN:VEVENT
DTSTART;TZID=Europe/Berlin:20241215T170000
DTEND;TZID=Europe/Berlin:20241215T181500
DTSTAMP:20260423T200929
CREATED:20241201T213722Z
LAST-MODIFIED:20241201T213722Z
UID:27472-1734282000-1734286500@www.mv-aktuell.de
SUMMARY:Weihnachtliches zum Zuhören und Mitsingen
DESCRIPTION:Posaunenchor & Jungbläser (Ltg. Reinhard Drews) \nKirchenchor (Ltg. Dorothea Uibel) \nOrgelmusik (Dorothea Uibel) \nEintritt frei – Kollekte \n  \nwww.kirche-an-elbe-und-elde.de
URL:https://www.mv-aktuell.de/event/weihnachtliches-zum-zuhoeren-und-mitsingen-2/
LOCATION:Mecklenburg
ATTACH;FMTTYPE=image/jpeg:https://www.mv-aktuell.de/wp-content/uploads/sites/2/2024/12/2024Weihnachtliches-zum-Zuhoeren-und-Mitsingen.jpg
ORGANIZER;CN="Kirche an Elbe und Elde":MAILTO:Dorothea.Uibel@elkm.de
END:VEVENT
END:VCALENDAR