BEGIN:VCALENDAR
VERSION:2.0
PRODID:-//MV AKTUELL - ECPv6.15.20//NONSGML v1.0//EN
CALSCALE:GREGORIAN
METHOD:PUBLISH
X-ORIGINAL-URL:https://www.mv-aktuell.de
X-WR-CALDESC:Veranstaltungen für MV AKTUELL
REFRESH-INTERVAL;VALUE=DURATION:PT1H
X-Robots-Tag:noindex
X-PUBLISHED-TTL:PT1H
BEGIN:VTIMEZONE
TZID:Europe/Berlin
BEGIN:DAYLIGHT
TZOFFSETFROM:+0100
TZOFFSETTO:+0200
TZNAME:CEST
DTSTART:20240331T010000
END:DAYLIGHT
BEGIN:STANDARD
TZOFFSETFROM:+0200
TZOFFSETTO:+0100
TZNAME:CET
DTSTART:20241027T010000
END:STANDARD
BEGIN:DAYLIGHT
TZOFFSETFROM:+0100
TZOFFSETTO:+0200
TZNAME:CEST
DTSTART:20250330T010000
END:DAYLIGHT
BEGIN:STANDARD
TZOFFSETFROM:+0200
TZOFFSETTO:+0100
TZNAME:CET
DTSTART:20251026T010000
END:STANDARD
BEGIN:DAYLIGHT
TZOFFSETFROM:+0100
TZOFFSETTO:+0200
TZNAME:CEST
DTSTART:20260329T010000
END:DAYLIGHT
BEGIN:STANDARD
TZOFFSETFROM:+0200
TZOFFSETTO:+0100
TZNAME:CET
DTSTART:20261025T010000
END:STANDARD
END:VTIMEZONE
BEGIN:VEVENT
DTSTART;TZID=Europe/Berlin:20250111T100000
DTEND;TZID=Europe/Berlin:20250112T170000
DTSTAMP:20260423T215447
CREATED:20241201T213758Z
LAST-MODIFIED:20241201T213758Z
UID:27475-1736589600-1736701200@www.mv-aktuell.de
SUMMARY:Mach mit beim Sternsingen!
DESCRIPTION:Mach mit beim Sternsingen! \nIm Januar sind wieder die Sternsingekinder unterwegs\, diesmal in Conow und Niendorf. \nWir klingeln an den Häusern\, singen ein Lied und sammeln Spenden für ein Projekt zur Unterstützung von Kindern in Armut. Mitmachen können alle Kinder ab der 2. Klasse\, jüngere Kinder nach Absprache. Sei auch du dabei! \nSonnabend\, 11.Januar 2025: 10:00 bis 14:15 mit Mittagessen\, Anfang und Ende im Gemeindehaus Conow \nSonntag\, 12. Januar 2025: 13:15 bis 16:30 mit Kuchenpause\, Anfang und Ende im Gemeindehaus Conow \nSonntag\, 12. Januar 2025 Sternsingefeier: mit Eltern\, Großeltern\, Geschwistern in der Kirche Conow \n16:00 Kuchen\, Saft\, Kakao für alle \n16:30 Sternsingefeier mit den Liedern der Kinder \nSingeprobe: Donnerstag\, 9.1. um 16:00 im Gemeindehaus Conow \nLieder: \nWir singen zwei Lieder: \nStern über Bethlehem & Wir kommen daher aus dem Morgenland \nDu findest die Lieder zum Üben leicht auf you tube oder Spotify. \nKostüme: Kostüme bekommst du bei uns!  \nAnmeldung: Damit wir alles gut planen können meldet euch bitte bis zum 20. Dezember an. Ihr könnt auch nur an einem Tag mitmachen.  \nHilfe: Wer hat von den Erwachsenen Lust\, uns beim Sternsingen zu unterstützen? Wir brauchen Hilfe zum Kuchen backen\, Nudeln kochen\, Gruppe begleiten und für den Fahrdienst. \nHerzliche Grüße von \nKantorin Dorothea Uibel\, 0160/8756792\,dorothea.uibel@elkm.de \nBitte geben Sie den Kindern eine einfache Sitzerhöhung für das Auto mit! \nwww.kirche-an-elbe-und-elde.de
URL:https://www.mv-aktuell.de/event/mach-mit-beim-sternsingen/
LOCATION:Mecklenburg
ATTACH;FMTTYPE=image/jpeg:https://www.mv-aktuell.de/wp-content/uploads/sites/2/2024/12/2025SternsingenConowNiendorfS1-2zusammen-auf-A4-rotated.jpg
ORGANIZER;CN="Kirche an Elbe und Elde":MAILTO:Dorothea.Uibel@elkm.de
END:VEVENT
BEGIN:VEVENT
DTSTART;TZID=Europe/Berlin:20250112T160000
DTEND;TZID=Europe/Berlin:20250112T173000
DTSTAMP:20260423T215447
CREATED:20250108T103519Z
LAST-MODIFIED:20250108T103519Z
UID:27522-1736697600-1736703000@www.mv-aktuell.de
SUMMARY:Klavierkonzert zum neuen Jahr in der Alten Synagoge
DESCRIPTION:Wir starten unser Kulturjahr am 12. Januar um 16 Uhr mit einem Klavierkonzert zum neuen Jahr mit dem Pianisten Volker Jaekel\, unseren Kulturfreunden in Krakow am See wohlbekannt als Leiter des gemischten Chors Vivaphon\, der schon zweimal mit großem Erfolg in der Alten Synagoge zu Gast war. \nVolker Jaekel ist ein Wanderer zwischen den Welten. Der studierte Kirchenmusiker ist zugleich ein virtuoser Jazzpianist\, der auch mit den Klängen des Flügels gern mal experimentiert. Er spielt seit Jahren in allen möglichen Projekten mit namhaften Künstler zahlreiche Konzerteund auf Festivals. Tourneen führten ihn durch ganz Europa\, nach Asien\, Australien und Südamerika. In seinem aktuellen Soloprogramm geht er zurück an die Ursprünge der Musik und vermischt „Essenzen“ aus Chorälen und sakralen Klängen mit romantischem Liedgut\, Weltmusikeinflüssen und barocken Formen zu einer ganz eigenen Art von „Contemporary Jazz“. \nEintritt: 10\,– / erm. 8\,– €
URL:https://www.mv-aktuell.de/event/klavierkonzert-zum-neuen-jahr-in-der-alten-synagoge/
LOCATION:Alte Synagoge Krakow am See\, Schulplatz 1\, Krakow am See\, MV\, 18292\, Deutschland
ATTACH;FMTTYPE=image/jpeg:https://www.mv-aktuell.de/wp-content/uploads/sites/2/2025/01/Volker-Jaekel-Plakat-150dpi-e1736327369764.jpg
ORGANIZER;CN="Kulturverein 'Alte Synagoge' Krakow am See e.V.":MAILTO:info@kulturverein-altesynagoge.de
END:VEVENT
BEGIN:VEVENT
DTSTART;TZID=Europe/Berlin:20250115T193000
DTEND;TZID=Europe/Berlin:20250115T211500
DTSTAMP:20260423T215447
CREATED:20250113T160609Z
LAST-MODIFIED:20250113T160609Z
UID:27533-1736969400-1736975700@www.mv-aktuell.de
SUMMARY:Kino in der Alten Synagoge Krakow am See
DESCRIPTION:Am Mittwoch\, den 15. Januar um 19.30 Uhr zeigen wir den Dokufilm „Die Unbeugsamen 2 – Guten Morgen\, Ihr Schönen!“. Er startete am 29. August 2024 in den deutschen Kinos. Regisseur Torsten Körner porträtiert darin Frauen aus unterschiedlichen Gesellschaftsschichten der Deutschen Demokratischen Republik und ihren Kampf um Teilhabe und Selbstbestimmung.  \n„Der Film ist eine Ode an all die unbeugsamen Frauen – Arbeiterinnen\, Wissenschaftlerinnen\, Künstlerinnen – die selbstbewusst ihren Platz im Leben einforderten. Ein wichtiges\, bitter-humorvolles Stück Geschichte – und ein Gegenpol zu einer maßgeblich männerzentrierten Geschichtsschreibung.“ Vision Kino \nEintritt: 5\,– / erm. 4\,– €
URL:https://www.mv-aktuell.de/event/kino-in-der-alten-synagoge-krakow-am-see/
LOCATION:Alte Synagoge Krakow am See\, Schulplatz 1\, Krakow am See\, MV\, 18292\, Deutschland
ATTACH;FMTTYPE=image/jpeg:https://www.mv-aktuell.de/wp-content/uploads/sites/2/2025/01/Bild_1-e1736782183317.jpg
ORGANIZER;CN="Kulturverein 'Alte Synagoge' Krakow am See e.V.":MAILTO:info@kulturverein-altesynagoge.de
END:VEVENT
BEGIN:VEVENT
DTSTART;TZID=Europe/Berlin:20250118T100000
DTEND;TZID=Europe/Berlin:20250118T113000
DTSTAMP:20260423T215447
CREATED:20250116T213033Z
LAST-MODIFIED:20250116T213033Z
UID:27537-1737194400-1737199800@www.mv-aktuell.de
SUMMARY:Neue Ausstellung in der Alten Synagoge Krakow am See
DESCRIPTION:Am 18. Januar um 10 Uhr eröffnen wir die Landesausstellung des Künstlerischen Sommerkurses mit einer Auswahl der besten Schülerarbeiten von 2024. Die Ausstellung ist bis zum 4. März dieses Jahres zu sehen.
URL:https://www.mv-aktuell.de/event/neue-ausstellung-in-der-alten-synagoge-krakow-am-see-4/
LOCATION:Alte Synagoge Krakow am See\, Schulplatz 1\, Krakow am See\, MV\, 18292\, Deutschland
ATTACH;FMTTYPE=image/jpeg:https://www.mv-aktuell.de/wp-content/uploads/sites/2/2025/01/Landesausstellung-Plakat-scaled-e1737057938317.jpg
ORGANIZER;CN="Kulturverein 'Alte Synagoge' Krakow am See e.V.":MAILTO:info@kulturverein-altesynagoge.de
END:VEVENT
END:VCALENDAR