BEGIN:VCALENDAR
VERSION:2.0
PRODID:-//MV AKTUELL - ECPv6.15.20//NONSGML v1.0//EN
CALSCALE:GREGORIAN
METHOD:PUBLISH
X-ORIGINAL-URL:https://www.mv-aktuell.de
X-WR-CALDESC:Veranstaltungen für MV AKTUELL
REFRESH-INTERVAL;VALUE=DURATION:PT1H
X-Robots-Tag:noindex
X-PUBLISHED-TTL:PT1H
BEGIN:VTIMEZONE
TZID:Europe/Berlin
BEGIN:DAYLIGHT
TZOFFSETFROM:+0100
TZOFFSETTO:+0200
TZNAME:CEST
DTSTART:20240331T010000
END:DAYLIGHT
BEGIN:STANDARD
TZOFFSETFROM:+0200
TZOFFSETTO:+0100
TZNAME:CET
DTSTART:20241027T010000
END:STANDARD
BEGIN:DAYLIGHT
TZOFFSETFROM:+0100
TZOFFSETTO:+0200
TZNAME:CEST
DTSTART:20250330T010000
END:DAYLIGHT
BEGIN:STANDARD
TZOFFSETFROM:+0200
TZOFFSETTO:+0100
TZNAME:CET
DTSTART:20251026T010000
END:STANDARD
BEGIN:DAYLIGHT
TZOFFSETFROM:+0100
TZOFFSETTO:+0200
TZNAME:CEST
DTSTART:20260329T010000
END:DAYLIGHT
BEGIN:STANDARD
TZOFFSETFROM:+0200
TZOFFSETTO:+0100
TZNAME:CET
DTSTART:20261025T010000
END:STANDARD
END:VTIMEZONE
BEGIN:VEVENT
DTSTART;TZID=Europe/Berlin:20250406T140000
DTEND;TZID=Europe/Berlin:20250406T173000
DTSTAMP:20260424T023749
CREATED:20250404T075356Z
LAST-MODIFIED:20250404T075356Z
UID:27739-1743948000-1743960600@www.mv-aktuell.de
SUMMARY:Die "Seestern" nimmt Fahrt auf...
DESCRIPTION:6. April 14 bis 16 Uhr: SCHIFFSBESICHTIGUNG am Anlieger auf dem Gelände der Werft Goetheallee 6 \nWir möchten mit unseren künftigen Fahrgästen mit Live-Musik und Speis und Trank den Neubeginn der Fahrgastschifffahrt auf dem Krakower See feiern und laden alle Interessierten ein\, unsere „Seestern“ von innen und außen kennenzulernen. \n16 Uhr: Erste offizielle SEERUNDFAHRT\nca. 90minütige Seerundfahrt mit Kapitän Norbert Pässler auf dem Krakower See.\nUnsere Bordgastronomie bietet ein reichhaltiges Angebot an Getränken\, Kuchen und kl. Imbiss. \nUnser Schnupperfahrplan“ im April:\nSeerundfahrten\n6. April 16:00 bis 17:30 Uhr\n13. April 14:00 bis 15:30 Uhr\n20. April 14:00 bis 15:30 Uhr\n21. April 14:00 bis 15:30 Uhr\n27. April 14:00 bis 15:30 Uhr \nFahrpreise:\nErwachsene (ab 16 Jahren)            14 €\nKinder/Jugendliche (7-15 Jahre)       8 €\nKinder bis 6 Jahre frei\nGruppen (ab 15. Personen) p.P.      12 €\nCharterfahrt je Stunde                    250 €\nBitte beachten: Zur Zeit ist aus technischen Gründen keine Kartenzahlung möglich. \nFörderverein Fahrgastschifffahrt Krakower See e.V.\nhttp://www.seestern-krakow.de\nReservierungen unter: 0160 97030937 (Mo-Fr 10-12 Uhr) oder auf unserer HP
URL:https://www.mv-aktuell.de/event/die-seestern-nimmt-fahrt-auf/
LOCATION:Mecklenburg
ATTACH;FMTTYPE=image/jpeg:https://www.mv-aktuell.de/wp-content/uploads/sites/2/2025/04/Schiffsbesichtigung.jpg
END:VEVENT
END:VCALENDAR