BEGIN:VCALENDAR
VERSION:2.0
PRODID:-//MV AKTUELL - ECPv6.15.20//NONSGML v1.0//EN
CALSCALE:GREGORIAN
METHOD:PUBLISH
X-WR-CALNAME:MV AKTUELL
X-ORIGINAL-URL:https://www.mv-aktuell.de
X-WR-CALDESC:Veranstaltungen für MV AKTUELL
REFRESH-INTERVAL;VALUE=DURATION:PT1H
X-Robots-Tag:noindex
X-PUBLISHED-TTL:PT1H
BEGIN:VTIMEZONE
TZID:Europe/Berlin
BEGIN:DAYLIGHT
TZOFFSETFROM:+0100
TZOFFSETTO:+0200
TZNAME:CEST
DTSTART:20240331T010000
END:DAYLIGHT
BEGIN:STANDARD
TZOFFSETFROM:+0200
TZOFFSETTO:+0100
TZNAME:CET
DTSTART:20241027T010000
END:STANDARD
BEGIN:DAYLIGHT
TZOFFSETFROM:+0100
TZOFFSETTO:+0200
TZNAME:CEST
DTSTART:20250330T010000
END:DAYLIGHT
BEGIN:STANDARD
TZOFFSETFROM:+0200
TZOFFSETTO:+0100
TZNAME:CET
DTSTART:20251026T010000
END:STANDARD
BEGIN:DAYLIGHT
TZOFFSETFROM:+0100
TZOFFSETTO:+0200
TZNAME:CEST
DTSTART:20260329T010000
END:DAYLIGHT
BEGIN:STANDARD
TZOFFSETFROM:+0200
TZOFFSETTO:+0100
TZNAME:CET
DTSTART:20261025T010000
END:STANDARD
END:VTIMEZONE
BEGIN:VEVENT
DTSTART;TZID=Europe/Berlin:20250829T190000
DTEND;TZID=Europe/Berlin:20250829T200000
DTSTAMP:20260424T082922
CREATED:20250828T062109Z
LAST-MODIFIED:20250828T062109Z
UID:27987-1756494000-1756497600@www.mv-aktuell.de
SUMMARY:Vortrag in der Alten Synagoge in Krakow am See
DESCRIPTION:Am 29. August um 19 Uhr findet in der Alten Synagoge in Krakow am See ein Vortrag von Ralf Koch\, dem Leiter des Naturparks Nossentiner/Schwinzer Heide statt. Thema diesmal: Sternenpark – Schutz der Dunkelheit der Nacht. \nDer Naturpark Nossentiner/Schwinzer Heide gehört zu den dunkelsten Regionen Deutschlands\, für viele Besucher inzwischen ein Qualitätsmerkmal. Bei klarer Nacht gerät nicht nur der Städter beim Anblick der unzähligen Sterne ins Staunen. Auch mancher Dorfbewohner freut sich\, wenn zu später Stunde die Straßenlaternen aus- und die unzähligen „Sternenlampen“ angehen. Tatsächlich ist der Naturpark von weiten zusammenhängenden Wäldern\, klaren Seen und einer relativ geringen Besiedlungsdichte geprägt mit 9 Einwohnern pro km².
URL:https://www.mv-aktuell.de/event/vortrag-in-der-alten-synagoge-in-krakow-am-see/
LOCATION:Alte Synagoge Krakow am See\, Schulplatz 1\, Krakow am See\, MV\, 18292\, Deutschland
ATTACH;FMTTYPE=image/jpeg:https://www.mv-aktuell.de/wp-content/uploads/sites/2/2025/08/Plakat-Sternenpark-scaled-e1756282485937.jpg
ORGANIZER;CN="Kulturverein 'Alte Synagoge' Krakow am See e.V.":MAILTO:info@kulturverein-altesynagoge.de
END:VEVENT
END:VCALENDAR