BEGIN:VCALENDAR
VERSION:2.0
PRODID:-//MV AKTUELL - ECPv6.15.20//NONSGML v1.0//EN
CALSCALE:GREGORIAN
METHOD:PUBLISH
X-WR-CALNAME:MV AKTUELL
X-ORIGINAL-URL:https://www.mv-aktuell.de
X-WR-CALDESC:Veranstaltungen für MV AKTUELL
REFRESH-INTERVAL;VALUE=DURATION:PT1H
X-Robots-Tag:noindex
X-PUBLISHED-TTL:PT1H
BEGIN:VTIMEZONE
TZID:Europe/Berlin
BEGIN:DAYLIGHT
TZOFFSETFROM:+0100
TZOFFSETTO:+0200
TZNAME:CEST
DTSTART:20240331T010000
END:DAYLIGHT
BEGIN:STANDARD
TZOFFSETFROM:+0200
TZOFFSETTO:+0100
TZNAME:CET
DTSTART:20241027T010000
END:STANDARD
BEGIN:DAYLIGHT
TZOFFSETFROM:+0100
TZOFFSETTO:+0200
TZNAME:CEST
DTSTART:20250330T010000
END:DAYLIGHT
BEGIN:STANDARD
TZOFFSETFROM:+0200
TZOFFSETTO:+0100
TZNAME:CET
DTSTART:20251026T010000
END:STANDARD
BEGIN:DAYLIGHT
TZOFFSETFROM:+0100
TZOFFSETTO:+0200
TZNAME:CEST
DTSTART:20260329T010000
END:DAYLIGHT
BEGIN:STANDARD
TZOFFSETFROM:+0200
TZOFFSETTO:+0100
TZNAME:CET
DTSTART:20261025T010000
END:STANDARD
END:VTIMEZONE
BEGIN:VEVENT
DTSTART;TZID=Europe/Berlin:20251019T160000
DTEND;TZID=Europe/Berlin:20251019T173000
DTSTAMP:20260424T091226
CREATED:20251016T130246Z
LAST-MODIFIED:20251016T130246Z
UID:28074-1760889600-1760895000@www.mv-aktuell.de
SUMMARY:Herbstkonzert in der Alten Synagoge in Krakow am See
DESCRIPTION:Am 19. Oktober um 16 Uhr haben wir wieder Musiker der Staatskapelle Berlin in der Alten Synagoge zu Gast. Diesmal im Herbstkonzert das „Tilia Quartett“ mit Dimitri Schostakowitschs 8. Streichquartett und Stücken von Antonin Dvořáks „Aus der neuen Welt“. Ein Konzert\, dass Sie sich nicht entgehen lassen sollten. \nEintritt: 15 € / erm. 12 €
URL:https://www.mv-aktuell.de/event/herbstkonzert-in-der-alten-synagoge-in-krakow-am-see/
ATTACH;FMTTYPE=image/jpeg:https://www.mv-aktuell.de/wp-content/uploads/sites/2/2025/10/Staatskapelle-Berlin-2025-Plakat-150-dpi-e1760618879611.jpg
END:VEVENT
END:VCALENDAR